BEGIN:VCALENDAR
VERSION:2.0
PRODID:-//Plone.org//NONSGML plone.app.event//EN
X-WR-TIMEZONE:Europe/Athens
BEGIN:VEVENT
SUMMARY:PITHIA-NRF Second Technical Meeting
DTSTART;VALUE=DATE:20220127
DTEND;VALUE=DATE:20220128
DTSTAMP;VALUE=DATE-TIME:20260419T220543Z
UID:9fb38befbca244ce8f788ea3cac6745c@pithia-nrf.eu
CREATED;VALUE=DATE-TIME:20220103T145541Z
LAST-MODIFIED;VALUE=DATE-TIME:20220118T160934Z
LOCATION:Zoom
URL:https://pithia-nrf.eu/events/second-technical-meeting
END:VEVENT
END:VCALENDAR
