BEGIN:VCALENDAR
VERSION:2.0
PRODID:-//Plone.org//NONSGML plone.app.event//EN
X-WR-TIMEZONE:Europe/Athens
BEGIN:VEVENT
SUMMARY:PITHIA-NRF Topical Discussion Meeting at the 17th European Space W
 eather Week
DTSTART;TZID=Europe/Athens;VALUE=DATE-TIME:20211027T011500
DTEND;TZID=Europe/Athens;VALUE=DATE-TIME:20211027T023000
DTSTAMP;VALUE=DATE-TIME:20260423T213555Z
UID:9c7a4ecf383041238d10673d4a820942@pithia-nrf.eu
CONTACT:Anna Belehaki\, info@pithia-nrf.eu\, http://esww17.iopconfs.org/10
 73955
CREATED;VALUE=DATE-TIME:20211020T155054Z
LAST-MODIFIED;VALUE=DATE-TIME:20211028T153242Z
LOCATION:Glasgow & Zoom (hybrid)
URL:https://pithia-nrf.eu/events/pithia-nrf-topical-discussion-meeting-at-
 the-17th-european-space-weather-week
END:VEVENT
BEGIN:VTIMEZONE
TZID:Europe/Athens
X-LIC-LOCATION:Europe/Athens
BEGIN:DAYLIGHT
DTSTART;VALUE=DATE-TIME:20210328T040000
TZNAME:EEST
TZOFFSETFROM:+0200
TZOFFSETTO:+0300
END:DAYLIGHT
END:VTIMEZONE
END:VCALENDAR
