BEGIN:VCALENDAR
VERSION:2.0
PRODID:-//Plone.org//NONSGML plone.app.event//EN
X-WR-TIMEZONE:Europe/Athens
BEGIN:VEVENT
SUMMARY:PITHIA-NRF 8th EBM
DTSTART;TZID=Europe/Athens;VALUE=DATE-TIME:20211104T110000
DTEND;TZID=Europe/Athens;VALUE=DATE-TIME:20211104T120000
DTSTAMP;VALUE=DATE-TIME:20260424T132505Z
UID:0c29dd8ede0d4ae79b7199301eb11f58@pithia-nrf.eu
CREATED;VALUE=DATE-TIME:20211021T134655Z
LAST-MODIFIED;VALUE=DATE-TIME:20211021T134729Z
LOCATION:Zoom
URL:https://pithia-nrf.eu/events/pithia-nrf-8th-ebm
END:VEVENT
BEGIN:VTIMEZONE
TZID:Europe/Athens
X-LIC-LOCATION:Europe/Athens
BEGIN:STANDARD
DTSTART;VALUE=DATE-TIME:20211031T030000
TZNAME:EET
TZOFFSETFROM:+0300
TZOFFSETTO:+0200
END:STANDARD
END:VTIMEZONE
END:VCALENDAR
