BEGIN:VCALENDAR
VERSION:2.0
PRODID:-//Plone.org//NONSGML plone.app.event//EN
X-WR-TIMEZONE:Europe/Athens
BEGIN:VEVENT
SUMMARY:PITHIA-NRF 14th EBM
DTSTART;TZID=Europe/Athens;VALUE=DATE-TIME:20220711T130000
DTEND;TZID=Europe/Athens;VALUE=DATE-TIME:20220711T140000
DTSTAMP;VALUE=DATE-TIME:20260421T152917Z
UID:5fed5bd678f44ccebf228177bd3b13e6@pithia-nrf.eu
CREATED;VALUE=DATE-TIME:20220709T152008Z
LAST-MODIFIED;VALUE=DATE-TIME:20220709T152102Z
LOCATION:Zoom
URL:https://pithia-nrf.eu/events/pithia-nrf-14th-ebm
END:VEVENT
BEGIN:VTIMEZONE
TZID:Europe/Athens
X-LIC-LOCATION:Europe/Athens
BEGIN:DAYLIGHT
DTSTART;VALUE=DATE-TIME:20220327T040000
TZNAME:EEST
TZOFFSETFROM:+0200
TZOFFSETTO:+0300
END:DAYLIGHT
END:VTIMEZONE
END:VCALENDAR
