BEGIN:VCALENDAR
VERSION:2.0
PRODID:-//Plone.org//NONSGML plone.app.event//EN
X-WR-TIMEZONE:Europe/Athens
BEGIN:VEVENT
SUMMARY:PITHIA-NRF 12th EBM
DTSTART;TZID=Europe/Athens;VALUE=DATE-TIME:20220413T170000
DTEND;TZID=Europe/Athens;VALUE=DATE-TIME:20220413T180000
DTSTAMP;VALUE=DATE-TIME:20260421T084527Z
UID:3c221da7c4264d59aeb4f9a0d2e2ec85@pithia-nrf.eu
CREATED;VALUE=DATE-TIME:20220408T082928Z
LAST-MODIFIED;VALUE=DATE-TIME:20220411T093445Z
LOCATION:Zoom
URL:https://pithia-nrf.eu/events/pithia-nrf-12th-ebm
END:VEVENT
BEGIN:VTIMEZONE
TZID:Europe/Athens
X-LIC-LOCATION:Europe/Athens
BEGIN:DAYLIGHT
DTSTART;VALUE=DATE-TIME:20220327T040000
TZNAME:EEST
TZOFFSETFROM:+0200
TZOFFSETTO:+0300
END:DAYLIGHT
END:VTIMEZONE
END:VCALENDAR
