BEGIN:VCALENDAR
VERSION:2.0
PRODID:-//Plone.org//NONSGML plone.app.event//EN
X-WR-TIMEZONE:Europe/Athens
BEGIN:VEVENT
SUMMARY:PITHIA-NRF First Training Workshop & FitSM
DTSTART;VALUE=DATE:20211108
DTEND;VALUE=DATE:20211112
DTSTAMP;VALUE=DATE-TIME:20260423T144239Z
UID:a022aa399da74f90ad7436b786e0d105@pithia-nrf.eu
CONTACT:https://pithia-nrf.eu/activities-results/training/tpw-1
CREATED;VALUE=DATE-TIME:20210708T105518Z
LAST-MODIFIED;VALUE=DATE-TIME:20221214T130720Z
URL:https://pithia-nrf.eu/events/first-training-workshop
END:VEVENT
END:VCALENDAR
