BEGIN:VCALENDAR
VERSION:2.0
PRODID:-//Plone.org//NONSGML plone.app.event//EN
X-WR-TIMEZONE:Europe/Athens
BEGIN:VEVENT
SUMMARY:PITHIA-NRF First GA & EEAB Meeting
DTSTART;VALUE=DATE:20220330
DTEND;VALUE=DATE:20220402
DTSTAMP;VALUE=DATE-TIME:20260422T233048Z
UID:da0616db0fca4893aa76619fa982ecaa@pithia-nrf.eu
CREATED;VALUE=DATE-TIME:20220314T123604Z
LAST-MODIFIED;VALUE=DATE-TIME:20221214T130659Z
LOCATION:Zoom
URL:https://pithia-nrf.eu/events/first-ga-eeab-meeting
END:VEVENT
END:VCALENDAR
